BEGIN:VCALENDAR
VERSION:2.0
PRODID:-//Flathead Republicans - ECPv6.15.20//NONSGML v1.0//EN
CALSCALE:GREGORIAN
METHOD:PUBLISH
X-ORIGINAL-URL:https://flatheadrepublicans.com
X-WR-CALDESC:Events for Flathead Republicans
REFRESH-INTERVAL;VALUE=DURATION:PT1H
X-Robots-Tag:noindex
X-PUBLISHED-TTL:PT1H
BEGIN:VTIMEZONE
TZID:UTC
BEGIN:STANDARD
TZOFFSETFROM:+0000
TZOFFSETTO:+0000
TZNAME:UTC
DTSTART:20240101T000000
END:STANDARD
END:VTIMEZONE
BEGIN:VEVENT
DTSTART;TZID=UTC:20250516T120000
DTEND;TZID=UTC:20250516T130000
DTSTAMP:20260425T160309
CREATED:20240503T030211Z
LAST-MODIFIED:20250709T190159Z
UID:1290-1747396800-1747400400@flatheadrepublicans.com
SUMMARY:Glacier Country Pachyderm weekly meeting - REMOTE
DESCRIPTION:We are meeting REMOTELY this week with a new Zoom Webinar format! Join us from the comfort of your own home (or office). To receive the webinar link\, contact Pachyderm leadership. You can also add yourself to the email list on the Pachyderm Calendar page at gcpachy.org/calendar to receive meeting updates!
URL:https://flatheadrepublicans.com/event/glacier-country-pachyderm-weekly-meeting-9/
LOCATION:MT
CATEGORIES:Pachyderm Meeting
ATTACH;FMTTYPE=image/jpeg:https://flatheadrepublicans.com/wp-content/uploads/2024/04/flag-300x153-1.jpg
END:VEVENT
END:VCALENDAR